git_url: https://git.bioconductor.org/packages/simpIntLists git_branch: RELEASE_3_14 git_last_commit: 3ac8123 git_last_commit_date: 2021-10-26 11:46:07 -0400 (Tue, 26 Oct 2021) Package: simpIntLists Version: 1.30.0 Maintainer: Kircicegi Korkmaz MaintainerEmail: e102771 at ceng.metu.edu.tr