git_url: https://git.bioconductor.org/packages/spatialDmelxsim git_branch: RELEASE_3_14 git_last_commit: f4e7ec2 git_last_commit_date: 2021-10-26 12:42:44 -0400 (Tue, 26 Oct 2021) Package: spatialDmelxsim Version: 1.0.0 Maintainer: Michael Love MaintainerEmail: michaelisaiahlove at gmail.com