Package: spatialLIBD Version: 1.6.5 Command: /home/biocbuild/bbs-3.14-bioc/R/bin/R CMD build --keep-empty-dirs --no-resave-data spatialLIBD StartedAt: 2022-04-13 10:42:45 -0400 (Wed, 13 Apr 2022) EndedAt: 2022-04-13 10:46:05 -0400 (Wed, 13 Apr 2022) EllapsedTime: 199.5 seconds RetCode: 0 Status: OK PackageFile: spatialLIBD_1.6.5.tar.gz PackageFileSize: 7.774 MiB