git_url: https://git.bioconductor.org/packages/stjudem git_branch: RELEASE_3_14 git_last_commit: cbe9934 git_last_commit_date: 2021-10-26 11:41:09 -0400 (Tue, 26 Oct 2021) Package: stjudem Version: 1.34.0 Maintainer: Joern Toedling MaintainerEmail: toedling at ebi.ac.uk