Package: tissueTreg Version: 1.14.0 Command: /home/biocbuild/bbs-3.14-bioc/R/bin/R CMD build --keep-empty-dirs --no-resave-data tissueTreg StartedAt: 2022-04-13 10:45:40 -0400 (Wed, 13 Apr 2022) EndedAt: 2022-04-13 10:46:59 -0400 (Wed, 13 Apr 2022) EllapsedTime: 79.2 seconds RetCode: 0 Status: OK PackageFile: tissueTreg_1.14.0.tar.gz PackageFileSize: 569.6 KiB