Package: tofsimsData Version: 1.22.0 Command: /home/biocbuild/bbs-3.14-bioc/R/bin/R CMD build --keep-empty-dirs --no-resave-data tofsimsData StartedAt: 2022-04-13 10:45:52 -0400 (Wed, 13 Apr 2022) EndedAt: 2022-04-13 10:45:58 -0400 (Wed, 13 Apr 2022) EllapsedTime: 6.0 seconds RetCode: 0 Status: OK PackageFile: tofsimsData_1.22.0.tar.gz PackageFileSize: 10.5 MiB