Package: tofsimsData Version: 1.22.0 Command: /home/biocbuild/bbs-3.14-bioc/R/bin/R CMD INSTALL tofsimsData StartedAt: 2022-04-13 10:01:01 -0400 (Wed, 13 Apr 2022) EndedAt: 2022-04-13 10:01:04 -0400 (Wed, 13 Apr 2022) EllapsedTime: 2.9 seconds RetCode: 0 Status: OK