git_url: https://git.bioconductor.org/packages/yeastCC git_branch: RELEASE_3_14 git_last_commit: dfeb910 git_last_commit_date: 2021-10-26 11:41:12 -0400 (Tue, 26 Oct 2021) Package: yeastCC Version: 1.34.0 Maintainer: Sandrine Dudoit MaintainerEmail: sandrine at stat.berkeley.edu