Package: yeastNagalakshmi Version: 1.30.0 Command: /home/biocbuild/bbs-3.14-bioc/R/bin/R CMD build --keep-empty-dirs --no-resave-data yeastNagalakshmi StartedAt: 2022-04-13 10:46:41 -0400 (Wed, 13 Apr 2022) EndedAt: 2022-04-13 10:46:43 -0400 (Wed, 13 Apr 2022) EllapsedTime: 2.1 seconds RetCode: 0 Status: OK PackageFile: yeastNagalakshmi_1.30.0.tar.gz PackageFileSize: 14.33 MiB