git_url: https://git.bioconductor.org/packages/yeastRNASeq git_branch: RELEASE_3_14 git_last_commit: a54082c git_last_commit_date: 2021-10-26 11:45:03 -0400 (Tue, 26 Oct 2021) Package: yeastRNASeq Version: 0.32.0 Maintainer: J. Bullard MaintainerEmail: bullard at stat.berkeley.edu