Package: yeastRNASeq Version: 0.32.0 Command: /home/biocbuild/bbs-3.14-bioc/R/bin/R CMD build --keep-empty-dirs --no-resave-data yeastRNASeq StartedAt: 2022-04-13 10:46:43 -0400 (Wed, 13 Apr 2022) EndedAt: 2022-04-13 10:47:17 -0400 (Wed, 13 Apr 2022) EllapsedTime: 34.3 seconds RetCode: 0 Status: OK PackageFile: yeastRNASeq_0.32.0.tar.gz PackageFileSize: 306.9 MiB