Package: yeastRNASeq Version: 0.32.0 Command: /home/biocbuild/bbs-3.14-bioc/R/bin/R CMD INSTALL yeastRNASeq StartedAt: 2022-04-13 10:00:19 -0400 (Wed, 13 Apr 2022) EndedAt: 2022-04-13 10:00:22 -0400 (Wed, 13 Apr 2022) EllapsedTime: 3.3 seconds RetCode: 0 Status: OK