git_url: https://git.bioconductor.org/packages/zebrafishRNASeq git_branch: RELEASE_3_14 git_last_commit: 850dde4 git_last_commit_date: 2021-10-26 12:09:29 -0400 (Tue, 26 Oct 2021) Package: zebrafishRNASeq Version: 1.14.0 Maintainer: Davide Risso MaintainerEmail: risso.davide at gmail.com