Package: TCGAWorkflow Version: 1.18.1 Command: /Library/Frameworks/R.framework/Resources/bin/R CMD build --keep-empty-dirs --no-resave-data TCGAWorkflow StartedAt: 2022-04-11 15:14:22 -0400 (Mon, 11 Apr 2022) EndedAt: 2022-04-11 15:17:18 -0400 (Mon, 11 Apr 2022) EllapsedTime: 176.5 seconds RetCode: 1 Status: ERROR PackageFile: None PackageFileSize: NA