Package: TCGAWorkflow Version: 1.18.1 Command: /Library/Frameworks/R.framework/Resources/bin/R CMD INSTALL TCGAWorkflow StartedAt: 2022-04-11 15:01:17 -0400 (Mon, 11 Apr 2022) EndedAt: 2022-04-11 15:02:19 -0400 (Mon, 11 Apr 2022) EllapsedTime: 62.0 seconds RetCode: 0 Status: OK