Package: TCGAWorkflow Version: 1.18.1 Command: /home/biocbuild/bbs-3.14-bioc/R/bin/R CMD build --keep-empty-dirs --no-resave-data TCGAWorkflow StartedAt: 2022-04-11 15:04:40 -0400 (Mon, 11 Apr 2022) EndedAt: 2022-04-11 15:07:03 -0400 (Mon, 11 Apr 2022) EllapsedTime: 143.2 seconds RetCode: 1 Status: ERROR PackageFile: None PackageFileSize: NA