Package: TCGAWorkflow Version: 1.18.1 Command: chmod a+r TCGAWorkflow -R && D:\biocbuild\bbs-3.14-bioc\R\bin\R.exe CMD build --keep-empty-dirs --no-resave-data TCGAWorkflow StartedAt: 2022-04-11 15:09:51 -0400 (Mon, 11 Apr 2022) EndedAt: 2022-04-11 15:34:34 -0400 (Mon, 11 Apr 2022) EllapsedTime: 1482.8 seconds RetCode: 0 Status: OK PackageFile: TCGAWorkflow_1.18.1.tar.gz PackageFileSize: 1.813 MiB