Package: cytofWorkflow Version: 1.18.0 Command: /home/biocbuild/bbs-3.14-bioc/R/bin/R CMD INSTALL cytofWorkflow StartedAt: 2022-04-11 15:00:18 -0400 (Mon, 11 Apr 2022) EndedAt: 2022-04-11 15:00:57 -0400 (Mon, 11 Apr 2022) EllapsedTime: 39.3 seconds RetCode: 0 Status: OK