Package: cytofWorkflow Version: 1.18.0 Command: chmod a+r cytofWorkflow -R && D:\biocbuild\bbs-3.14-bioc\R\bin\R.exe CMD build --keep-empty-dirs --no-resave-data cytofWorkflow StartedAt: 2022-04-11 15:06:12 -0400 (Mon, 11 Apr 2022) EndedAt: 2022-04-11 15:12:14 -0400 (Mon, 11 Apr 2022) EllapsedTime: 362.4 seconds RetCode: 0 Status: OK PackageFile: cytofWorkflow_1.18.0.tar.gz PackageFileSize: 2.533 MiB