Package: recountWorkflow Version: 1.18.0 Command: /Library/Frameworks/R.framework/Resources/bin/R CMD build --keep-empty-dirs --no-resave-data recountWorkflow StartedAt: 2022-04-11 15:10:27 -0400 (Mon, 11 Apr 2022) EndedAt: 2022-04-11 15:40:12 -0400 (Mon, 11 Apr 2022) EllapsedTime: 1785.3 seconds RetCode: 0 Status: OK PackageFile: recountWorkflow_1.18.0.tar.gz PackageFileSize: 2.095 MiB