Package: recountWorkflow Version: 1.18.0 Command: /Library/Frameworks/R.framework/Resources/bin/R CMD INSTALL recountWorkflow StartedAt: 2022-04-11 15:01:26 -0400 (Mon, 11 Apr 2022) EndedAt: 2022-04-11 15:02:26 -0400 (Mon, 11 Apr 2022) EllapsedTime: 60.2 seconds RetCode: 0 Status: OK