git_url: https://git.bioconductor.org/packages/rnaseqGene git_branch: RELEASE_3_14 git_last_commit: 22becdb git_last_commit_date: 2021-10-26 11:15:56 -0400 (Tue, 26 Oct 2021) Package: rnaseqGene Version: 1.18.0 Maintainer: Michael Love MaintainerEmail: michaelisaiahlove at gmail.com