Package: ACME Version: 2.52.0 Command: /home/biocbuild/bbs-3.15-bioc/R/bin/R CMD build --keep-empty-dirs --no-resave-data ACME StartedAt: 2022-10-18 15:55:23 -0400 (Tue, 18 Oct 2022) EndedAt: 2022-10-18 15:55:45 -0400 (Tue, 18 Oct 2022) EllapsedTime: 21.8 seconds RetCode: 0 Status: OK PackageFile: ACME_2.52.0.tar.gz PackageFileSize: 9.793 MiB