Package: ACME Version: 2.52.0 Command: F:\biocbuild\bbs-3.15-bioc\R\bin\R.exe CMD INSTALL ACME StartedAt: 2022-10-18 15:46:25 -0400 (Tue, 18 Oct 2022) EndedAt: 2022-10-18 15:46:40 -0400 (Tue, 18 Oct 2022) EllapsedTime: 14.6 seconds RetCode: 0 Status: OK