Package: ASEB Version: 1.40.0 Command: /Library/Frameworks/R.framework/Resources/bin/R CMD INSTALL ASEB StartedAt: 2022-10-18 15:15:59 -0400 (Tue, 18 Oct 2022) EndedAt: 2022-10-18 15:16:10 -0400 (Tue, 18 Oct 2022) EllapsedTime: 11.8 seconds RetCode: 0 Status: OK