Package: ASEB Version: 1.39.5 Command: D:\biocbuild\bbs-3.15-bioc\R\bin\R.exe CMD check --no-multiarch --install=check:ASEB.install-out.txt --library=D:\biocbuild\bbs-3.15-bioc\R\library --no-vignettes --timings ASEB_1.39.5.tar.gz StartedAt: 2022-03-17 18:27:52 -0400 (Thu, 17 Mar 2022) EndedAt: 2022-03-17 18:28:29 -0400 (Thu, 17 Mar 2022) EllapsedTime: 37.6 seconds RetCode: 0 Status: OK CheckDir: ASEB.Rcheck Warnings: 0