Package: ASICS Version: 2.12.1 Command: rm -rf ASICS.buildbin-libdir && mkdir ASICS.buildbin-libdir && /Users/biocbuild/BBS/utils/build-universal.sh ASICS_2.12.1.tar.gz /Library/Frameworks/R.framework/Resources/bin/R ASICS.buildbin-libdir StartedAt: 2022-10-19 09:55:16 -0400 (Wed, 19 Oct 2022) EndedAt: 2022-10-19 09:56:23 -0400 (Wed, 19 Oct 2022) EllapsedTime: 66.3 seconds RetCode: 0 Status: OK PackageFile: ASICS_2.12.1.tgz PackageFileSize: 4.115 MiB