Package: AgiMicroRna Version: 2.46.0 Command: /home/biocbuild/bbs-3.15-bioc/R/bin/R CMD build --keep-empty-dirs --no-resave-data AgiMicroRna StartedAt: 2022-10-18 15:55:44 -0400 (Tue, 18 Oct 2022) EndedAt: 2022-10-18 15:57:47 -0400 (Tue, 18 Oct 2022) EllapsedTime: 122.4 seconds RetCode: 0 Status: OK PackageFile: AgiMicroRna_2.46.0.tar.gz PackageFileSize: 2.963 MiB