Package: AgiMicroRna Version: 2.46.0 Command: /home/biocbuild/bbs-3.15-bioc/R/bin/R CMD INSTALL AgiMicroRna StartedAt: 2022-10-18 15:48:36 -0400 (Tue, 18 Oct 2022) EndedAt: 2022-10-18 15:49:39 -0400 (Tue, 18 Oct 2022) EllapsedTime: 62.8 seconds RetCode: 0 Status: OK