Package: AgiMicroRna Version: 2.45.0 Command: rm -rf AgiMicroRna.buildbin-libdir && mkdir AgiMicroRna.buildbin-libdir && D:\biocbuild\bbs-3.15-bioc\R\bin\R.exe CMD INSTALL --build --library=AgiMicroRna.buildbin-libdir AgiMicroRna_2.45.0.tar.gz StartedAt: 2022-03-17 20:51:22 -0400 (Thu, 17 Mar 2022) EndedAt: 2022-03-17 20:53:07 -0400 (Thu, 17 Mar 2022) EllapsedTime: 105.0 seconds RetCode: 0 Status: OK PackageFile: AgiMicroRna_2.45.0.zip PackageFileSize: 3.507 MiB