Package: BEARscc Version: 1.16.0 Command: /home/biocbuild/bbs-3.15-bioc/R/bin/R CMD check --install=check:BEARscc.install-out.txt --library=/home/biocbuild/bbs-3.15-bioc/R/library --no-vignettes --timings BEARscc_1.16.0.tar.gz StartedAt: 2022-10-18 18:41:23 -0400 (Tue, 18 Oct 2022) EndedAt: 2022-10-18 18:44:38 -0400 (Tue, 18 Oct 2022) EllapsedTime: 194.8 seconds RetCode: 0 Status: OK CheckDir: BEARscc.Rcheck Warnings: 0