Package: BEARscc Version: 1.16.0 Command: /home/biocbuild/bbs-3.15-bioc/R/bin/R CMD INSTALL BEARscc StartedAt: 2022-10-18 15:25:05 -0400 (Tue, 18 Oct 2022) EndedAt: 2022-10-18 15:25:33 -0400 (Tue, 18 Oct 2022) EllapsedTime: 28.1 seconds RetCode: 0 Status: OK