Package: BaalChIP Version: 1.22.0 Command: rm -rf BaalChIP.buildbin-libdir && mkdir BaalChIP.buildbin-libdir && F:\biocbuild\bbs-3.15-bioc\R\bin\R.exe CMD INSTALL --build --library=BaalChIP.buildbin-libdir BaalChIP_1.22.0.tar.gz StartedAt: 2022-10-19 05:32:39 -0400 (Wed, 19 Oct 2022) EndedAt: 2022-10-19 05:34:37 -0400 (Wed, 19 Oct 2022) EllapsedTime: 117.9 seconds RetCode: 0 Status: OK PackageFile: BaalChIP_1.22.0.zip PackageFileSize: 106.5 MiB