Package: BaalChIP Version: 1.21.0 Command: rm -rf BaalChIP.buildbin-libdir && mkdir BaalChIP.buildbin-libdir && D:\biocbuild\bbs-3.15-bioc\R\bin\R.exe CMD INSTALL --build --library=BaalChIP.buildbin-libdir BaalChIP_1.21.0.tar.gz StartedAt: 2022-03-17 20:53:36 -0400 (Thu, 17 Mar 2022) EndedAt: 2022-03-17 20:54:59 -0400 (Thu, 17 Mar 2022) EllapsedTime: 82.9 seconds RetCode: 0 Status: OK PackageFile: BaalChIP_1.21.0.zip PackageFileSize: 106.5 MiB