Package: BioCor Version: 1.19.1 Command: D:\biocbuild\bbs-3.15-bioc\R\bin\R.exe CMD INSTALL BioCor StartedAt: 2022-03-17 16:01:53 -0400 (Thu, 17 Mar 2022) EndedAt: 2022-03-17 16:02:54 -0400 (Thu, 17 Mar 2022) EllapsedTime: 60.7 seconds RetCode: 0 Status: OK