Package: BiocNeighbors Version: 1.14.0 Command: chmod a+r BiocNeighbors -R && F:\biocbuild\bbs-3.15-bioc\R\bin\R.exe CMD build --keep-empty-dirs --no-resave-data BiocNeighbors StartedAt: 2022-10-18 17:19:49 -0400 (Tue, 18 Oct 2022) EndedAt: 2022-10-18 17:23:30 -0400 (Tue, 18 Oct 2022) EllapsedTime: 221.0 seconds RetCode: 0 Status: OK PackageFile: BiocNeighbors_1.14.0.tar.gz PackageFileSize: 915.6 KiB