Package: BiocParallel Version: 1.29.17 Command: set _R_INSTALL_TIME_PATCHES_=no&& chmod a+r BiocParallel -R && D:\biocbuild\bbs-3.15-bioc\R\bin\R.exe CMD build --keep-empty-dirs --no-resave-data BiocParallel StartedAt: 2022-03-17 16:26:22 -0400 (Thu, 17 Mar 2022) EndedAt: 2022-03-17 16:28:36 -0400 (Thu, 17 Mar 2022) EllapsedTime: 133.4 seconds RetCode: 0 Status: OK PackageFile: BiocParallel_1.29.17.tar.gz PackageFileSize: 877 KiB