Package: CNORfuzzy Version: 1.38.0 Command: /home/biocbuild/bbs-3.15-bioc/R/bin/R CMD check --install=check:CNORfuzzy.install-out.txt --library=/home/biocbuild/bbs-3.15-bioc/R/library --no-vignettes --timings CNORfuzzy_1.38.0.tar.gz StartedAt: 2022-10-18 19:06:45 -0400 (Tue, 18 Oct 2022) EndedAt: 2022-10-18 19:07:56 -0400 (Tue, 18 Oct 2022) EllapsedTime: 71.1 seconds RetCode: 0 Status: OK CheckDir: CNORfuzzy.Rcheck Warnings: 0