Package: CNORfuzzy Version: 1.38.0 Command: /home/biocbuild/bbs-3.15-bioc/R/bin/R CMD INSTALL CNORfuzzy StartedAt: 2022-10-18 15:24:30 -0400 (Tue, 18 Oct 2022) EndedAt: 2022-10-18 15:24:39 -0400 (Tue, 18 Oct 2022) EllapsedTime: 9.1 seconds RetCode: 0 Status: OK