git_url: https://git.bioconductor.org/packages/CNVgears git_branch: RELEASE_3_15 git_last_commit: 84c8857 git_last_commit_date: 2022-04-26 12:11:19 -0400 (Tue, 26 Apr 2022) Package: CNVgears Version: 1.4.0 Maintainer: Simone Montalbano MaintainerEmail: simone.montalbano at protonmail.com