############################################################################## ############################################################################## ### ### Running command: ### ### D:\biocbuild\bbs-3.15-bioc\R\bin\R.exe CMD INSTALL CNVgears ### ############################################################################## ############################################################################## * installing to library 'D:/biocbuild/bbs-3.15-bioc/R/library' * installing *source* package 'CNVgears' ... ** using staged installation ** R ** data *** moving datasets to lazyload DB ** inst ** byte-compile and prepare package for lazy loading ** help *** installing help indices converting help for package 'CNVgears' finding HTML links ... done CNVgears html CNVresults_to_GRanges html chr_uniform html cleaning_filter html cnmops_to_CNVresults html cnvrs_create html cnvs_inheritance html cohort_examples html genic_load html genomic_locus html hg18_chr_arms html hg18_start_end_centromeres html hg19_chr_arms html hg19_start_end_centromeres html hg38_chr_arms html hg38_start_end_centromeres html immuno_regions html inter_res_merge html lrr_trio_plot html markers_examples html merge_calls html penn_22 html quanti_22 html read_NGS_intervals html read_NGS_raw html read_finalreport_raw html read_finalreport_snps html read_metadt html read_results html read_vcf html summary.CNVresults html telom_centrom html ** building package indices ** installing vignettes ** testing if installed package can be loaded from temporary location ** testing if installed package can be loaded from final location ** testing if installed package keeps a record of temporary installation path * DONE (CNVgears) Making 'packages.html' ...Warning in packageDescription(i, lib.loc = lib, fields = "Title", encoding = "UTF-8") : DESCRIPTION file of package 'RGraph2js' is missing or broken done