git_url: https://git.bioconductor.org/packages/CONFESS git_branch: RELEASE_3_15 git_last_commit: f600c5f git_last_commit_date: 2022-04-26 11:31:23 -0400 (Tue, 26 Apr 2022) Package: CONFESS Version: 1.24.0 Maintainer: Diana LOW MaintainerEmail: lowdiana at gmail.com