git_url: https://git.bioconductor.org/packages/CellMixS git_branch: RELEASE_3_15 git_last_commit: ab74242 git_last_commit_date: 2022-04-26 11:54:21 -0400 (Tue, 26 Apr 2022) Package: CellMixS Version: 1.12.0 Maintainer: Almut Lütge MaintainerEmail: almut.luetge at uzh.ch