Package: ChIPQC Version: 1.32.2 Command: F:\biocbuild\bbs-3.15-bioc\R\bin\R.exe CMD check --no-multiarch --install=check:ChIPQC.install-out.txt --library=F:\biocbuild\bbs-3.15-bioc\R\library --no-vignettes --timings ChIPQC_1.32.2.tar.gz StartedAt: 2022-10-18 22:52:41 -0400 (Tue, 18 Oct 2022) EndedAt: 2022-10-18 22:59:32 -0400 (Tue, 18 Oct 2022) EllapsedTime: 410.8 seconds RetCode: 0 Status: WARNINGS CheckDir: ChIPQC.Rcheck Warnings: 1