Package: CopywriteR Version: 2.27.0 Command: chmod a+r CopywriteR -R && D:\biocbuild\bbs-3.15-bioc\R\bin\R.exe CMD build --keep-empty-dirs --no-resave-data CopywriteR StartedAt: 2022-03-17 16:39:30 -0400 (Thu, 17 Mar 2022) EndedAt: 2022-03-17 16:41:02 -0400 (Thu, 17 Mar 2022) EllapsedTime: 91.5 seconds RetCode: 0 Status: OK PackageFile: CopywriteR_2.27.0.tar.gz PackageFileSize: 236.9 KiB