Package: CoverageView Version: 1.34.0 Command: /home/biocbuild/bbs-3.15-bioc/R/bin/R CMD build --keep-empty-dirs --no-resave-data CoverageView StartedAt: 2022-10-18 16:21:42 -0400 (Tue, 18 Oct 2022) EndedAt: 2022-10-18 16:22:27 -0400 (Tue, 18 Oct 2022) EllapsedTime: 45.2 seconds RetCode: 0 Status: OK PackageFile: CoverageView_1.34.0.tar.gz PackageFileSize: 2.419 MiB