Package: DEsingle Version: 1.16.0 Command: rm -rf DEsingle.buildbin-libdir && mkdir DEsingle.buildbin-libdir && /Users/biocbuild/BBS/utils/build-universal.sh DEsingle_1.16.0.tar.gz /Library/Frameworks/R.framework/Resources/bin/R DEsingle.buildbin-libdir StartedAt: 2022-10-19 10:13:59 -0400 (Wed, 19 Oct 2022) EndedAt: 2022-10-19 10:14:17 -0400 (Wed, 19 Oct 2022) EllapsedTime: 17.9 seconds RetCode: 0 Status: OK PackageFile: DEsingle_1.16.0.tgz PackageFileSize: 379.1 KiB