Package: DeepPINCS Version: 1.3.6 Command: D:\biocbuild\bbs-3.15-bioc\R\bin\R.exe CMD check --no-multiarch --install=check:DeepPINCS.install-out.txt --library=D:\biocbuild\bbs-3.15-bioc\R\library --no-vignettes --timings DeepPINCS_1.3.6.tar.gz StartedAt: 2022-03-11 18:56:38 -0500 (Fri, 11 Mar 2022) EndedAt: 2022-03-11 18:59:13 -0500 (Fri, 11 Mar 2022) EllapsedTime: 155.6 seconds RetCode: 0 Status: OK CheckDir: DeepPINCS.Rcheck Warnings: 0