Package: DegNorm Version: 1.6.1 Command: rm -rf DegNorm.buildbin-libdir && mkdir DegNorm.buildbin-libdir && F:\biocbuild\bbs-3.15-bioc\R\bin\R.exe CMD INSTALL --build --library=DegNorm.buildbin-libdir DegNorm_1.6.1.tar.gz StartedAt: 2022-10-19 05:46:47 -0400 (Wed, 19 Oct 2022) EndedAt: 2022-10-19 05:47:56 -0400 (Wed, 19 Oct 2022) EllapsedTime: 68.4 seconds RetCode: 0 Status: OK PackageFile: DegNorm_1.6.1.zip PackageFileSize: 3.38 MiB