Package: DegNorm Version: 1.6.1 Command: chmod a+r DegNorm -R && F:\biocbuild\bbs-3.15-bioc\R\bin\R.exe CMD build --keep-empty-dirs --no-resave-data DegNorm StartedAt: 2022-10-18 18:04:19 -0400 (Tue, 18 Oct 2022) EndedAt: 2022-10-18 18:09:51 -0400 (Tue, 18 Oct 2022) EllapsedTime: 332.2 seconds RetCode: 0 Status: OK PackageFile: DegNorm_1.6.1.tar.gz PackageFileSize: 3.17 MiB